BEGIN:VCALENDAR
VERSION:2.0
PRODID:icalendar-ruby
CALSCALE:GREGORIAN
METHOD:PUBLISH
BEGIN:VEVENT
DTSTAMP:20260421T173509Z
UID:28-159731@victoryoutreach200.tithelysetup5.com
DTSTART:20260920T153000Z
DTEND:20260920T170000Z
CLASS:PUBLIC
CREATED:20260421T110537
DESCRIPTION:Join Us Every Sunday at 10:30 AM!\nWe would love for you to be 
 part of our Sunday celebrations at Victory Outreach Austin! Every week\, w
 e gather together to celebrate the life God has given us and worship Him w
 ith grateful hearts.\nWhen: Every Sunday at 10:30 AM\nWhere: Victory Outre
 ach Austin Church | 9600 Old Lockhart Road Austin Tx 78744\nBring your fri
 ends\, family\, and anyone who could use a fresh word of hope and encourag
 ement. No matter where you're at in life\, there's a place for you here! L
 et’s come together to worship\, grow in faith\, and be uplifted in commu
 nity.\nWe can’t wait to see you there!
LAST-MODIFIED:20260421T110537
LOCATION:9600 Oldlockhart Road Austin Tx 78747
SUMMARY:Sunday Morning Celebration
URL;VALUE=URI:https://www.victoryoutreachaustin.org/events/sunday-morning-c
 elebration/2026-09-20
ATTACH;FILENAME=470471838_608730811493094_3806725037435845182_n.jpg;FMTTYPE
 =image/jpeg:https://dq5pwpg1q8ru0.cloudfront.net/2024/12/31/03/42/43/32439
 367-12c2-4177-ad3d-6f22d9dcf619/470471838_608730811493094_3806725037435845
 182_n.jpg
END:VEVENT
END:VCALENDAR
