BEGIN:VCALENDAR
VERSION:2.0
PRODID:icalendar-ruby
CALSCALE:GREGORIAN
METHOD:PUBLISH
BEGIN:VEVENT
DTSTAMP:20260422T011113Z
UID:29-160356@victoryoutreach200.tithelysetup5.com
DTSTART:20261015T003000Z
DTEND:20261015T020000Z
CLASS:PUBLIC
CREATED:20260421T185926
DESCRIPTION:Third Wave Services – Every Wednesday at 7:30 PM\nGet ready f
 or a powerful midweek encounter! Join us every Wednesday at 7:30 PM at Vic
 tory Outreach Austin for our Third Wave Services. This is a night to dive 
 deep into God’s Word\, experience passionate worship\, and be equipped f
 or your journey of faith.\nWhen: Every Wednesday at 7:30 PM\nWhere: Victor
 y Outreach Austin Church | 9600 Old Lockhart Rd austin tx 78744\nDon’t f
 orget to bring:\n\nYour Bible\nPen\nNotepad\n\nThis service is all about e
 quipping you for what God has next in your life. Be ready to take notes\, 
 learn\, and grow as we dive into the Word together. Whether you’re looki
 ng for spiritual direction\, community\, or empowerment\, our Third Wave s
 ervices are the place to be.\nInvite your friends\, family\, and anyone hu
 ngry for more of God’s presence. We can't wait to see you there!
LAST-MODIFIED:20260421T185926
LOCATION:9600 Oldlockhart Road Austin Tx 78747
SUMMARY:Third Wave social
URL;VALUE=URI:https://www.victoryoutreachaustin.org/events/third-wave-socia
 l/2026-10-14
ATTACH;FILENAME=3rd wave projection .jpg;FMTTYPE=image/jpeg:https://dq5pwpg
 1q8ru0.cloudfront.net/2025/05/15/14/03/44/bd729aa3-934a-4230-8c2d-ccbaca80
 e1b9/3rd%20wave%20projection%20.jpg
END:VEVENT
END:VCALENDAR
